BEGIN:VCALENDAR
VERSION:2.0
PRODID:-//TSV Ilshofen - ECPv6.15.17.1//NONSGML v1.0//EN
CALSCALE:GREGORIAN
METHOD:PUBLISH
X-WR-CALNAME:TSV Ilshofen
X-ORIGINAL-URL:https://www.tsv-ilshofen.de
X-WR-CALDESC:Veranstaltungen für TSV Ilshofen
REFRESH-INTERVAL;VALUE=DURATION:PT1H
X-Robots-Tag:noindex
X-PUBLISHED-TTL:PT1H
BEGIN:VTIMEZONE
TZID:Europe/Berlin
BEGIN:DAYLIGHT
TZOFFSETFROM:+0100
TZOFFSETTO:+0200
TZNAME:CEST
DTSTART:20250330T010000
END:DAYLIGHT
BEGIN:STANDARD
TZOFFSETFROM:+0200
TZOFFSETTO:+0100
TZNAME:CET
DTSTART:20251026T010000
END:STANDARD
BEGIN:DAYLIGHT
TZOFFSETFROM:+0100
TZOFFSETTO:+0200
TZNAME:CEST
DTSTART:20260329T010000
END:DAYLIGHT
BEGIN:STANDARD
TZOFFSETFROM:+0200
TZOFFSETTO:+0100
TZNAME:CET
DTSTART:20261025T010000
END:STANDARD
BEGIN:DAYLIGHT
TZOFFSETFROM:+0100
TZOFFSETTO:+0200
TZNAME:CEST
DTSTART:20270328T010000
END:DAYLIGHT
BEGIN:STANDARD
TZOFFSETFROM:+0200
TZOFFSETTO:+0100
TZNAME:CET
DTSTART:20271031T010000
END:STANDARD
END:VTIMEZONE
BEGIN:VEVENT
DTSTART;VALUE=DATE:20260315
DTEND;VALUE=DATE:20260316
DTSTAMP:20260420T150700
CREATED:20260112T084528Z
LAST-MODIFIED:20260112T084528Z
UID:5298-1773532800-1773619199@www.tsv-ilshofen.de
SUMMARY:Minimeisterschaften (Kreisentscheid)
DESCRIPTION:Infos folgen
URL:https://www.tsv-ilshofen.de/veranstaltung/minimeisterschaften-kreisentscheid
LOCATION:Großsporthalle\, Gartenstraße 27\, Ilshofen\, 74532\, Deutschland
CATEGORIES:Tischtennis
END:VEVENT
END:VCALENDAR